BEGIN:VCALENDAR
VERSION:2.0
PRODID:-//King of Life Church - ECPv6.15.17.1//NONSGML v1.0//EN
CALSCALE:GREGORIAN
METHOD:PUBLISH
X-WR-CALNAME:King of Life Church
X-ORIGINAL-URL:https://kingoflife.ca
X-WR-CALDESC:Events for King of Life Church
REFRESH-INTERVAL;VALUE=DURATION:PT1H
X-Robots-Tag:noindex
X-PUBLISHED-TTL:PT1H
BEGIN:VTIMEZONE
TZID:America/Los_Angeles
BEGIN:DAYLIGHT
TZOFFSETFROM:-0800
TZOFFSETTO:-0700
TZNAME:PDT
DTSTART:20230312T100000
END:DAYLIGHT
BEGIN:STANDARD
TZOFFSETFROM:-0700
TZOFFSETTO:-0800
TZNAME:PST
DTSTART:20231105T090000
END:STANDARD
BEGIN:DAYLIGHT
TZOFFSETFROM:-0800
TZOFFSETTO:-0700
TZNAME:PDT
DTSTART:20240310T100000
END:DAYLIGHT
BEGIN:STANDARD
TZOFFSETFROM:-0700
TZOFFSETTO:-0800
TZNAME:PST
DTSTART:20241103T090000
END:STANDARD
BEGIN:DAYLIGHT
TZOFFSETFROM:-0800
TZOFFSETTO:-0700
TZNAME:PDT
DTSTART:20250309T100000
END:DAYLIGHT
BEGIN:STANDARD
TZOFFSETFROM:-0700
TZOFFSETTO:-0800
TZNAME:PST
DTSTART:20251102T090000
END:STANDARD
END:VTIMEZONE
BEGIN:VEVENT
DTSTART;TZID=America/Los_Angeles:20240908T103000
DTEND;TZID=America/Los_Angeles:20240908T103000
DTSTAMP:20260421T103416
CREATED:20240815T181620Z
LAST-MODIFIED:20240815T181620Z
UID:1298-1725791400-1725791400@kingoflife.ca
SUMMARY:Sunday School Startup
DESCRIPTION:Join us for the startup of our Sunday School program! We begin on the Sunday after Labor Day\, and then will continue to run on the 1st Sunday of each month.  We welcome all children from ages 4-10
URL:https://kingoflife.ca/event/sunday-school-startup/
END:VEVENT
BEGIN:VEVENT
DTSTART;TZID=America/Los_Angeles:20240922T090000
DTEND;TZID=America/Los_Angeles:20240922T090000
DTSTAMP:20260421T103416
CREATED:20240916T204848Z
LAST-MODIFIED:20240916T204848Z
UID:1352-1726995600-1726995600@kingoflife.ca
SUMMARY:Choir Practise
DESCRIPTION:
URL:https://kingoflife.ca/event/choir-practise/
END:VEVENT
BEGIN:VEVENT
DTSTART;TZID=America/Los_Angeles:20240929T090000
DTEND;TZID=America/Los_Angeles:20240929T090000
DTSTAMP:20260421T103416
CREATED:20240916T204934Z
LAST-MODIFIED:20240916T204934Z
UID:1354-1727600400-1727600400@kingoflife.ca
SUMMARY:Choir Practise
DESCRIPTION:
URL:https://kingoflife.ca/event/choir-practise-2/
END:VEVENT
BEGIN:VEVENT
DTSTART;TZID=America/Los_Angeles:20240929T103000
DTEND;TZID=America/Los_Angeles:20240929T103000
DTSTAMP:20260421T103416
CREATED:20240916T204142Z
LAST-MODIFIED:20240916T204142Z
UID:1342-1727605800-1727605800@kingoflife.ca
SUMMARY:Orange Shirt Day
DESCRIPTION:
URL:https://kingoflife.ca/event/orange-shirt-day/
END:VEVENT
END:VCALENDAR