BEGIN:VCALENDAR
VERSION:2.0
PRODID:-//King of Life Church - ECPv6.15.17.1//NONSGML v1.0//EN
CALSCALE:GREGORIAN
METHOD:PUBLISH
X-ORIGINAL-URL:https://kingoflife.ca
X-WR-CALDESC:Events for King of Life Church
REFRESH-INTERVAL;VALUE=DURATION:PT1H
X-Robots-Tag:noindex
X-PUBLISHED-TTL:PT1H
BEGIN:VTIMEZONE
TZID:America/Los_Angeles
BEGIN:DAYLIGHT
TZOFFSETFROM:-0800
TZOFFSETTO:-0700
TZNAME:PDT
DTSTART:20230312T100000
END:DAYLIGHT
BEGIN:STANDARD
TZOFFSETFROM:-0700
TZOFFSETTO:-0800
TZNAME:PST
DTSTART:20231105T090000
END:STANDARD
BEGIN:DAYLIGHT
TZOFFSETFROM:-0800
TZOFFSETTO:-0700
TZNAME:PDT
DTSTART:20240310T100000
END:DAYLIGHT
BEGIN:STANDARD
TZOFFSETFROM:-0700
TZOFFSETTO:-0800
TZNAME:PST
DTSTART:20241103T090000
END:STANDARD
BEGIN:DAYLIGHT
TZOFFSETFROM:-0800
TZOFFSETTO:-0700
TZNAME:PDT
DTSTART:20250309T100000
END:DAYLIGHT
BEGIN:STANDARD
TZOFFSETFROM:-0700
TZOFFSETTO:-0800
TZNAME:PST
DTSTART:20251102T090000
END:STANDARD
END:VTIMEZONE
BEGIN:VEVENT
DTSTART;TZID=America/Los_Angeles:20240831T083000
DTEND;TZID=America/Los_Angeles:20240831T083000
DTSTAMP:20260421T115707
CREATED:20240815T181207Z
LAST-MODIFIED:20240815T181207Z
UID:1296-1725093000-1725093000@kingoflife.ca
SUMMARY:August Hike -Chineside Trail
DESCRIPTION:We did this one a couple of years ago and it was great. The trail head starts at Port Moody Senior and after some lovely forested area we get into a couple residential areas and then back into the trail and end up back at the church. There are some steep inclines when we hit the residential areas. Totalkilometres is about 7 and it should take about 2-3 hours. \n\n\n\nWhen: Saturday\, August 31Where: Gather at the church for 8:30 am \n\n\n\nBring water and snacks and trail runners should be just fine. Dogs on a leash are welcomed! \n\n\n\nPlease let the church office (kolchurchoffice@telus.net) know if you are interested in coming. The more the merrier!! \n 
URL:https://kingoflife.ca/event/august-hike-chineside-trail/
END:VEVENT
END:VCALENDAR