BEGIN:VCALENDAR
VERSION:2.0
PRODID:-//King of Life Church - ECPv6.15.17.1//NONSGML v1.0//EN
CALSCALE:GREGORIAN
METHOD:PUBLISH
X-ORIGINAL-URL:https://kingoflife.ca
X-WR-CALDESC:Events for King of Life Church
REFRESH-INTERVAL;VALUE=DURATION:PT1H
X-Robots-Tag:noindex
X-PUBLISHED-TTL:PT1H
BEGIN:VTIMEZONE
TZID:America/Los_Angeles
BEGIN:DAYLIGHT
TZOFFSETFROM:-0800
TZOFFSETTO:-0700
TZNAME:PDT
DTSTART:20230312T100000
END:DAYLIGHT
BEGIN:STANDARD
TZOFFSETFROM:-0700
TZOFFSETTO:-0800
TZNAME:PST
DTSTART:20231105T090000
END:STANDARD
BEGIN:DAYLIGHT
TZOFFSETFROM:-0800
TZOFFSETTO:-0700
TZNAME:PDT
DTSTART:20240310T100000
END:DAYLIGHT
BEGIN:STANDARD
TZOFFSETFROM:-0700
TZOFFSETTO:-0800
TZNAME:PST
DTSTART:20241103T090000
END:STANDARD
BEGIN:DAYLIGHT
TZOFFSETFROM:-0800
TZOFFSETTO:-0700
TZNAME:PDT
DTSTART:20250309T100000
END:DAYLIGHT
BEGIN:STANDARD
TZOFFSETFROM:-0700
TZOFFSETTO:-0800
TZNAME:PST
DTSTART:20251102T090000
END:STANDARD
END:VTIMEZONE
BEGIN:VEVENT
DTSTART;TZID=America/Los_Angeles:20240706T083000
DTEND;TZID=America/Los_Angeles:20240706T120000
DTSTAMP:20260421T135535
CREATED:20240627T204509Z
LAST-MODIFIED:20240627T204509Z
UID:1283-1720254600-1720267200@kingoflife.ca
SUMMARY:July Hike
DESCRIPTION:A hike is planned for Saturday\, July 6 to Sugar Mountain in Anmore…rain or shine. We will meet at the church for 8:30 am and carpool to Jim and Karen Matthews’ place to park and start the hike. Pack water\, snacks and bug spray and I would recommend that you wear hiking boots or trail runners. Dogs are welcome on leash. The hike is 6.8km and will take about 3 hrs to complete. The trail is rated as moderate. \n\n\n\nRecent reviews for the Sugar Mountain Loop suggest it is a good trail with a nice incline\, beautiful views and quiet atmosphere.  Some mention loose rocks and muddy spots as well as the trail being well groomed and peaceful.  There could be bugs!! \n\n\n\nLooking forward to having you join us.
URL:https://kingoflife.ca/event/july-hike/
END:VEVENT
END:VCALENDAR