BEGIN:VCALENDAR
VERSION:2.0
PRODID:-//King of Life Church - ECPv6.15.17.1//NONSGML v1.0//EN
CALSCALE:GREGORIAN
METHOD:PUBLISH
X-ORIGINAL-URL:https://kingoflife.ca
X-WR-CALDESC:Events for King of Life Church
REFRESH-INTERVAL;VALUE=DURATION:PT1H
X-Robots-Tag:noindex
X-PUBLISHED-TTL:PT1H
BEGIN:VTIMEZONE
TZID:America/Los_Angeles
BEGIN:DAYLIGHT
TZOFFSETFROM:-0800
TZOFFSETTO:-0700
TZNAME:PDT
DTSTART:20230312T100000
END:DAYLIGHT
BEGIN:STANDARD
TZOFFSETFROM:-0700
TZOFFSETTO:-0800
TZNAME:PST
DTSTART:20231105T090000
END:STANDARD
BEGIN:DAYLIGHT
TZOFFSETFROM:-0800
TZOFFSETTO:-0700
TZNAME:PDT
DTSTART:20240310T100000
END:DAYLIGHT
BEGIN:STANDARD
TZOFFSETFROM:-0700
TZOFFSETTO:-0800
TZNAME:PST
DTSTART:20241103T090000
END:STANDARD
BEGIN:DAYLIGHT
TZOFFSETFROM:-0800
TZOFFSETTO:-0700
TZNAME:PDT
DTSTART:20250309T100000
END:DAYLIGHT
BEGIN:STANDARD
TZOFFSETFROM:-0700
TZOFFSETTO:-0800
TZNAME:PST
DTSTART:20251102T090000
END:STANDARD
END:VTIMEZONE
BEGIN:VEVENT
DTSTART;TZID=America/Los_Angeles:20240222T183000
DTEND;TZID=America/Los_Angeles:20240328T183000
DTSTAMP:20260421T200419
CREATED:20240131T200325Z
LAST-MODIFIED:20240131T200326Z
UID:1211-1708626600-1711650600@kingoflife.ca
SUMMARY:Lenten Service with Soup and Bun supper
DESCRIPTION:Our Thursday evening soup and bun suppers at 6:30pm\, followed by Holden Evening Prayer at 7:15pm\, will begin on Thursday February 22nd and continue until Maundy Thursday\, March 28th.
URL:https://kingoflife.ca/event/lenten-service-with-soup-and-bun-supper/
LOCATION:King of Life Lutheran Church\, 1198 Falcon Dr\, Coquitlam\, BC\, V3E2M4\, Canada
END:VEVENT
BEGIN:VEVENT
DTSTART;TZID=America/Los_Angeles:20240307T183000
DTEND;TZID=America/Los_Angeles:20240307T200000
DTSTAMP:20260421T200419
CREATED:20240213T213350Z
LAST-MODIFIED:20240213T213351Z
UID:1226-1709836200-1709841600@kingoflife.ca
SUMMARY:Lenten service with soup and bun supper
DESCRIPTION:Our Thursday evening soup and bun suppers at 6:30pm\, followed by Holden Evening Prayer at 7:15pm\, will begin on Thursday February 22nd and continue until Maundy Thursday\, March 28th.
URL:https://kingoflife.ca/event/lenten-service-with-soup-and-bun-supper-3/
END:VEVENT
BEGIN:VEVENT
DTSTART;TZID=America/Los_Angeles:20240314T183000
DTEND;TZID=America/Los_Angeles:20240314T200000
DTSTAMP:20260421T200419
CREATED:20240213T213510Z
LAST-MODIFIED:20240213T213510Z
UID:1228-1710441000-1710446400@kingoflife.ca
SUMMARY:Lenten Service with soup and bun supper
DESCRIPTION:Our Thursday evening soup and bun suppers at 6:30pm\, followed by Holden Evening Prayer at 7:15pm\, will begin on Thursday February 22nd and continue until Maundy Thursday\, March 28th.
URL:https://kingoflife.ca/event/lenten-service-with-soup-and-bun-supper-4/
END:VEVENT
BEGIN:VEVENT
DTSTART;TZID=America/Los_Angeles:20240321T183000
DTEND;TZID=America/Los_Angeles:20240321T200000
DTSTAMP:20260421T200419
CREATED:20240213T213604Z
LAST-MODIFIED:20240213T213605Z
UID:1230-1711045800-1711051200@kingoflife.ca
SUMMARY:Lenten service with soup and bun supper
DESCRIPTION:Our Thursday evening soup and bun suppers at 6:30pm\, followed by Holden Evening Prayer at 7:15pm\, will begin on Thursday February 22nd and continue until Maundy Thursday\, March 28th.
URL:https://kingoflife.ca/event/lenten-service-with-soup-and-bun-supper-5/
END:VEVENT
BEGIN:VEVENT
DTSTART;TZID=America/Los_Angeles:20240328T191500
DTEND;TZID=America/Los_Angeles:20240328T191500
DTSTAMP:20260421T200419
CREATED:20240131T200502Z
LAST-MODIFIED:20240213T212715Z
UID:1213-1711653300-1711653300@kingoflife.ca
SUMMARY:Maundy Thursday
DESCRIPTION:Please join us on Thursday March 28th at 7:15pm for our Maundy Thursday service\, preceded by the soup and bun supper at 6:30pm. \n\n\n\n“Maundy” comes from the Latin word mandatum\, or commandment\, reflecting Jesus’ words “I give you a new commandment.” Jesus gave his disciples as he prepared to be betrayed: ‘love one another\, as I have loved you”. \n\n\n\nOn Maundy Thursday we recall the events of the Last Supper and the institution of the celebration of Holy Communion. According to John’s Gospel\, the evening began by washing the disciples’ feet\, an act of the humblest service.
URL:https://kingoflife.ca/event/maundy-sunday/
LOCATION:King of Life Lutheran Church\, 1198 Falcon Dr\, Coquitlam\, BC\, V3E2M4\, Canada
END:VEVENT
BEGIN:VEVENT
DTSTART;TZID=America/Los_Angeles:20240329T103000
DTEND;TZID=America/Los_Angeles:20240329T103000
DTSTAMP:20260421T200419
CREATED:20240131T200601Z
LAST-MODIFIED:20240131T200602Z
UID:1215-1711708200-1711708200@kingoflife.ca
SUMMARY:Good Friday
DESCRIPTION:Please join us on Friday March 29th at 10:30am for our Good Friday service. \n\n\n\nThe solemn liturgy of Good Friday recalls the trial\, suffering and crucifixion of Jesus as we journey with Jesus along the via Dolorosa\, the Way of Sorrows. On Good Friday we seek not so much to understand the Cross as to stand under the Cross. \n\n\n\nReflective silence forms a vital part of the liturgy of Good Friday. The passion narrative from St John’s Gospel is read with reflective hymns.
URL:https://kingoflife.ca/event/good-friday-3/
LOCATION:King of Life Lutheran Church\, 1198 Falcon Dr\, Coquitlam\, BC\, V3E2M4\, Canada
END:VEVENT
BEGIN:VEVENT
DTSTART;TZID=America/Los_Angeles:20240331T103000
DTEND;TZID=America/Los_Angeles:20240331T103000
DTSTAMP:20260421T200419
CREATED:20240131T200655Z
LAST-MODIFIED:20240131T200656Z
UID:1217-1711881000-1711881000@kingoflife.ca
SUMMARY:Easter Sunday
DESCRIPTION:Please join us on Sunday March 31st at 10:30am for our Easter Sunday Service. \n\n\n\nAfter the excitement of the Vigil\, Easter morning marks the beginning of our fifty days of Easter joy. Alleluia\, having been excised from our liturgy during Lent\, becomes the joyful refrain of this season. \n\n\n\nAlleluia\, Christ is Risen! \n\n\n\nHe is Risen Indeed\, Alleluia!
URL:https://kingoflife.ca/event/easter-sunday-4/
LOCATION:King of Life Lutheran Church\, 1198 Falcon Dr\, Coquitlam\, BC\, V3E2M4\, Canada
END:VEVENT
END:VCALENDAR