BEGIN:VCALENDAR
VERSION:2.0
PRODID:-//King of Life Church - ECPv6.15.17.1//NONSGML v1.0//EN
CALSCALE:GREGORIAN
METHOD:PUBLISH
X-WR-CALNAME:King of Life Church
X-ORIGINAL-URL:https://kingoflife.ca
X-WR-CALDESC:Events for King of Life Church
REFRESH-INTERVAL;VALUE=DURATION:PT1H
X-Robots-Tag:noindex
X-PUBLISHED-TTL:PT1H
BEGIN:VTIMEZONE
TZID:UTC
BEGIN:STANDARD
TZOFFSETFROM:+0000
TZOFFSETTO:+0000
TZNAME:UTC
DTSTART:20150101T000000
END:STANDARD
END:VTIMEZONE
BEGIN:VEVENT
DTSTART;TZID=UTC:20161217T123000
DTEND;TZID=UTC:20161217T143000
DTSTAMP:20260422T010026
CREATED:20161110T101704Z
LAST-MODIFIED:20161110T101704Z
UID:322-1481977800-1481985000@kingoflife.ca
SUMMARY:Crafternoon
DESCRIPTION:Afternoon of Arts and Crafts 12:30 to 2:30. Everyone is welcome.
URL:https://kingoflife.ca/event/crafternoon-2/
LOCATION:King of Life Lutheran Church\, 1198 Falcon Dr\, Coquitlam\, BC\, V3E2M4\, Canada
END:VEVENT
BEGIN:VEVENT
DTSTART;TZID=UTC:20161126T110000
DTEND;TZID=UTC:20161126T140000
DTSTAMP:20260422T010026
CREATED:20160819T051840Z
LAST-MODIFIED:20160819T051840Z
UID:292-1480158000-1480168800@kingoflife.ca
SUMMARY:Christmas Craft Fair at KOL
DESCRIPTION:The KOL Christmas Craft Fair is a wonderful opportunity for members of King of Life and their friends and family to showcase their many talents. Shoppers will be sure to find some great Christmas gifts!Admission is free.  \n 
URL:https://kingoflife.ca/event/christmas-craft-fair-at-kol/
END:VEVENT
BEGIN:VEVENT
DTSTART;TZID=UTC:20161105T140000
DTEND;TZID=UTC:20161105T160000
DTSTAMP:20260422T010026
CREATED:20161005T121800Z
LAST-MODIFIED:20161005T121800Z
UID:315-1478354400-1478361600@kingoflife.ca
SUMMARY:Crafternoon
DESCRIPTION:Join us for an afternoon of arts and crafts at King of Life. The event will run from 2 til 4. Feel free to bring any projects you are working on or have completed. Everyone is welcome.
URL:https://kingoflife.ca/event/crafternoon/
LOCATION:King of Life Lutheran Church\, 1198 Falcon Dr\, Coquitlam\, BC\, V3E2M4\, Canada
END:VEVENT
BEGIN:VEVENT
DTSTART;TZID=UTC:20160918T100000
DTEND;TZID=UTC:20160918T103000
DTSTAMP:20260422T010026
CREATED:20160819T051710Z
LAST-MODIFIED:20161004T022930Z
UID:291-1474192800-1474194600@kingoflife.ca
SUMMARY:Sunday School Classes Resume
DESCRIPTION:First day of Sunday School classes – 10:00 to 10:30am! Everyone is welcome.
URL:https://kingoflife.ca/event/sunday-school-classes-resume/
LOCATION:King of Life Lutheran Church\, 1198 Falcon Dr\, Coquitlam\, BC\, V3E2M4\, Canada
END:VEVENT
BEGIN:VEVENT
DTSTART;TZID=UTC:20160911T120000
DTEND;TZID=UTC:20160911T130000
DTSTAMP:20260422T010026
CREATED:20160819T052918Z
LAST-MODIFIED:20160819T052918Z
UID:293-1473595200-1473598800@kingoflife.ca
SUMMARY:Love Your Church BBQ
DESCRIPTION:
URL:https://kingoflife.ca/event/love-your-church-bbq/
LOCATION:King of Life Lutheran Church\, 1198 Falcon Dr\, Coquitlam\, BC\, V3E2M4\, Canada
END:VEVENT
BEGIN:VEVENT
DTSTART;TZID=UTC:20160904T103000
DTEND;TZID=UTC:20160904T113000
DTSTAMP:20260422T010026
CREATED:20160819T051522Z
LAST-MODIFIED:20160819T051522Z
UID:290-1472985000-1472988600@kingoflife.ca
SUMMARY:Blessing of the Back-Packs
DESCRIPTION:
URL:https://kingoflife.ca/event/blessing-of-the-back-packs/
LOCATION:King of Life Lutheran Church\, 1198 Falcon Dr\, Coquitlam\, BC\, V3E2M4\, Canada
END:VEVENT
BEGIN:VEVENT
DTSTART;TZID=UTC:20160514T190000
DTEND;TZID=UTC:20160514T210000
DTSTAMP:20260422T010026
CREATED:20160507T125931Z
LAST-MODIFIED:20160507T125931Z
UID:275-1463252400-1463259600@kingoflife.ca
SUMMARY:Movie Night
DESCRIPTION:Movie starts at 7:00 pm. Everyone is welcome.
URL:https://kingoflife.ca/event/movie-night-5/
LOCATION:King of Life Lutheran Church\, 1198 Falcon Dr\, Coquitlam\, BC\, V3E2M4\, Canada
CATEGORIES:Special Events
END:VEVENT
BEGIN:VEVENT
DTSTART;TZID=UTC:20160508T100000
DTEND;TZID=UTC:20160508T103000
DTSTAMP:20260422T010026
CREATED:20160427T103556Z
LAST-MODIFIED:20160427T103556Z
UID:270-1462701600-1462703400@kingoflife.ca
SUMMARY:Mother's Day Tea
DESCRIPTION:Mother’s Day Tea \nSunday\, May 8th at 10:00 am. Everyone is welcome!  \nPlease join us before service for a simple Mother’s Day Tea. Come sip some tea\, eat some baked goods\, and enjoy each other’s company!
URL:https://kingoflife.ca/event/mothers-day-tea/
LOCATION:King of Life Lutheran Church\, 1198 Falcon Dr\, Coquitlam\, BC\, V3E2M4\, Canada
END:VEVENT
BEGIN:VEVENT
DTSTART;TZID=UTC:20160423T190000
DTEND;TZID=UTC:20160423T220000
DTSTAMP:20260422T010026
CREATED:20160304T112346Z
LAST-MODIFIED:20160304T112346Z
UID:234-1461438000-1461448800@kingoflife.ca
SUMMARY:Movie Night
DESCRIPTION:Check back for details in the coming weeks
URL:https://kingoflife.ca/event/movie-night-4/
LOCATION:King of Life Lutheran Church\, 1198 Falcon Dr\, Coquitlam\, BC\, V3E2M4\, Canada
END:VEVENT
BEGIN:VEVENT
DTSTART;TZID=UTC:20160423T103000
DTEND;TZID=UTC:20160423T120000
DTSTAMP:20260422T010026
CREATED:20160304T112230Z
LAST-MODIFIED:20160304T112230Z
UID:233-1461407400-1461412800@kingoflife.ca
SUMMARY:Godly Play Workshop
DESCRIPTION:
URL:https://kingoflife.ca/event/godly-play-workshop/
LOCATION:King of Life Lutheran Church\, 1198 Falcon Dr\, Coquitlam\, BC\, V3E2M4\, Canada
CATEGORIES:Special Events
END:VEVENT
BEGIN:VEVENT
DTSTART;TZID=UTC:20160410T103000
DTEND;TZID=UTC:20160410T113000
DTSTAMP:20260422T010026
CREATED:20160202T131223Z
LAST-MODIFIED:20160202T131223Z
UID:198-1460284200-1460287800@kingoflife.ca
SUMMARY:Animate
DESCRIPTION:Animate: Community
URL:https://kingoflife.ca/event/animate-5/
END:VEVENT
BEGIN:VEVENT
DTSTART;TZID=UTC:20160409T130000
DTEND;TZID=UTC:20160409T160000
DTSTAMP:20260422T010026
CREATED:20160309T130034Z
LAST-MODIFIED:20160309T130034Z
UID:259-1460206800-1460217600@kingoflife.ca
SUMMARY:An Afternoon of Arts and Crafts
DESCRIPTION:Come out and craft! 1-4pm. Everyone is welcome.
URL:https://kingoflife.ca/event/an-afternoon-of-arts-and-crafts/
LOCATION:King of Life Lutheran Church\, 1198 Falcon Dr\, Coquitlam\, BC\, V3E2M4\, Canada
CATEGORIES:Special Events
END:VEVENT
BEGIN:VEVENT
DTSTART;TZID=UTC:20160327T093000
DTEND;TZID=UTC:20160327T120000
DTSTAMP:20260422T010026
CREATED:20160304T112106Z
LAST-MODIFIED:20160309T125850Z
UID:232-1459071000-1459080000@kingoflife.ca
SUMMARY:Easter Sunday
DESCRIPTION:9:30am Breakfast \n10:00am Easter Egg Hunt \n10:30am Church Service
URL:https://kingoflife.ca/event/easter-sunday/
LOCATION:King of Life Lutheran Church\, 1198 Falcon Dr\, Coquitlam\, BC\, V3E2M4\, Canada
END:VEVENT
BEGIN:VEVENT
DTSTART;TZID=UTC:20160325T103000
DTEND;TZID=UTC:20160325T113000
DTSTAMP:20260422T010026
CREATED:20160309T125505Z
LAST-MODIFIED:20160309T125505Z
UID:255-1458901800-1458905400@kingoflife.ca
SUMMARY:Good Friday
DESCRIPTION:Service begins at 10:30am
URL:https://kingoflife.ca/event/good-friday/
LOCATION:King of Life Lutheran Church\, 1198 Falcon Dr\, Coquitlam\, BC\, V3E2M4\, Canada
CATEGORIES:Holiday Service
END:VEVENT
BEGIN:VEVENT
DTSTART;TZID=UTC:20160324T191500
DTEND;TZID=UTC:20160324T200000
DTSTAMP:20260422T010026
CREATED:20160309T125633Z
LAST-MODIFIED:20160309T125633Z
UID:256-1458846900-1458849600@kingoflife.ca
SUMMARY:Maundy Thursday
DESCRIPTION:Service starts at 7:15pm
URL:https://kingoflife.ca/event/maundy-thursday/
LOCATION:King of Life Lutheran Church\, 1198 Falcon Dr\, Coquitlam\, BC\, V3E2M4\, Canada
CATEGORIES:Holiday Service
END:VEVENT
BEGIN:VEVENT
DTSTART;TZID=UTC:20160324T183000
DTEND;TZID=UTC:20160324T200000
DTSTAMP:20260422T010026
CREATED:20160122T140650Z
LAST-MODIFIED:20160122T140650Z
UID:188-1458844200-1458849600@kingoflife.ca
SUMMARY:Lenten Soup Supper and Service
DESCRIPTION:Come out during Lent for a soup and bun supper at 6:30\, followed by Lenten service. Members are asked to sign up to bring pots of soup and buns each week (3 pots of soup per week are needed).
URL:https://kingoflife.ca/event/lenten-soup-supper-and-service-6/
LOCATION:King of Life Lutheran Church\, 1198 Falcon Dr\, Coquitlam\, BC\, V3E2M4\, Canada
END:VEVENT
BEGIN:VEVENT
DTSTART;TZID=UTC:20160319T190000
DTEND;TZID=UTC:20160319T220000
DTSTAMP:20260422T010026
CREATED:20160304T111911Z
LAST-MODIFIED:20160304T112001Z
UID:231-1458414000-1458424800@kingoflife.ca
SUMMARY:Movie Night
DESCRIPTION:Details to come in the coming weeks
URL:https://kingoflife.ca/event/movie-night-3/
LOCATION:King of Life Lutheran Church\, 1198 Falcon Dr\, Coquitlam\, BC\, V3E2M4\, Canada
CATEGORIES:Special Events
END:VEVENT
BEGIN:VEVENT
DTSTART;TZID=UTC:20160317T183000
DTEND;TZID=UTC:20160317T200000
DTSTAMP:20260422T010026
CREATED:20160122T140605Z
LAST-MODIFIED:20160122T140605Z
UID:187-1458239400-1458244800@kingoflife.ca
SUMMARY:Lenten Soup Supper and Service
DESCRIPTION:Come out during Lent for a soup and bun supper at 6:30\, followed by Lenten service. Members are asked to sign up to bring pots of soup and buns each week (3 pots of soup per week are needed).
URL:https://kingoflife.ca/event/lenten-soup-supper-and-service-5/
LOCATION:King of Life Lutheran Church\, 1198 Falcon Dr\, Coquitlam\, BC\, V3E2M4\, Canada
END:VEVENT
BEGIN:VEVENT
DTSTART;TZID=UTC:20160313T103000
DTEND;TZID=UTC:20160313T113000
DTSTAMP:20260422T010026
CREATED:20160202T131734Z
LAST-MODIFIED:20160202T131734Z
UID:200-1457865000-1457868600@kingoflife.ca
SUMMARY:Animate
DESCRIPTION:Animate: Service
URL:https://kingoflife.ca/event/animate-7/
LOCATION:King of Life Lutheran Church\, 1198 Falcon Dr\, Coquitlam\, BC\, V3E2M4\, Canada
END:VEVENT
BEGIN:VEVENT
DTSTART;TZID=UTC:20160310T183000
DTEND;TZID=UTC:20160310T200000
DTSTAMP:20260422T010026
CREATED:20160122T140445Z
LAST-MODIFIED:20160122T140445Z
UID:186-1457634600-1457640000@kingoflife.ca
SUMMARY:Lenten Soup Supper and Service
DESCRIPTION:Come out during Lent for a soup and bun supper at 6:30\, followed by Lenten service. Members are asked to sign up to bring pots of soup and buns each week (3 pots of soup per week are needed).
URL:https://kingoflife.ca/event/lenten-soup-supper-and-service-4/
LOCATION:King of Life Lutheran Church\, 1198 Falcon Dr\, Coquitlam\, BC\, V3E2M4\, Canada
END:VEVENT
BEGIN:VEVENT
DTSTART;TZID=UTC:20160306T103000
DTEND;TZID=UTC:20160306T113000
DTSTAMP:20260422T010026
CREATED:20160202T131554Z
LAST-MODIFIED:20160202T131554Z
UID:199-1457260200-1457263800@kingoflife.ca
SUMMARY:Animate
DESCRIPTION:Animate: Money
URL:https://kingoflife.ca/event/animate-6/
LOCATION:King of Life Lutheran Church\, 1198 Falcon Dr\, Coquitlam\, BC\, V3E2M4\, Canada
END:VEVENT
BEGIN:VEVENT
DTSTART;TZID=UTC:20160303T183000
DTEND;TZID=UTC:20160303T200000
DTSTAMP:20260422T010026
CREATED:20160122T140358Z
LAST-MODIFIED:20160122T140358Z
UID:185-1457029800-1457035200@kingoflife.ca
SUMMARY:Lenten Soup Supper and Service
DESCRIPTION:Come out during Lent for a soup and bun supper at 6:30\, followed by Lenten service. Members are asked to sign up to bring pots of soup and buns each week (3 pots of soup per week are needed).
URL:https://kingoflife.ca/event/lenten-soup-supper-and-service-3/
LOCATION:King of Life Lutheran Church\, 1198 Falcon Dr\, Coquitlam\, BC\, V3E2M4\, Canada
END:VEVENT
BEGIN:VEVENT
DTSTART;TZID=UTC:20160228T120000
DTEND;TZID=UTC:20160228T123000
DTSTAMP:20260422T010026
CREATED:20160122T141419Z
LAST-MODIFIED:20160122T141419Z
UID:192-1456660800-1456662600@kingoflife.ca
SUMMARY:Annual General Meeting after church
DESCRIPTION:
URL:https://kingoflife.ca/event/annual-general-meeting-after-church/
LOCATION:King of Life Lutheran Church\, 1198 Falcon Dr\, Coquitlam\, BC\, V3E2M4\, Canada
END:VEVENT
BEGIN:VEVENT
DTSTART;TZID=UTC:20160228T103000
DTEND;TZID=UTC:20160228T113000
DTSTAMP:20260422T010026
CREATED:20160202T131132Z
LAST-MODIFIED:20160202T131132Z
UID:197-1456655400-1456659000@kingoflife.ca
SUMMARY:Animate
DESCRIPTION:Animate: Sacraments
URL:https://kingoflife.ca/event/animate-4/
LOCATION:King of Life Lutheran Church\, 1198 Falcon Dr\, Coquitlam\, BC\, V3E2M4\, Canada
END:VEVENT
BEGIN:VEVENT
DTSTART;TZID=UTC:20160227T183000
DTEND;TZID=UTC:20160227T220000
DTSTAMP:20260422T010026
CREATED:20160204T142407Z
LAST-MODIFIED:20160212T035344Z
UID:212-1456597800-1456610400@kingoflife.ca
SUMMARY:Movie Night
DESCRIPTION:Animated family movie “Home” at 6:30pm. Empire Strikes Back at 8:00pm.
URL:https://kingoflife.ca/event/movie-night-2/
LOCATION:King of Life Lutheran Church\, 1198 Falcon Dr\, Coquitlam\, BC\, V3E2M4\, Canada
END:VEVENT
BEGIN:VEVENT
DTSTART;TZID=UTC:20160225T183000
DTEND;TZID=UTC:20160225T200000
DTSTAMP:20260422T010026
CREATED:20160122T140250Z
LAST-MODIFIED:20160122T140250Z
UID:184-1456425000-1456430400@kingoflife.ca
SUMMARY:Lenten Soup Supper and Service
DESCRIPTION:Come out during Lent for a soup and bun supper at 6:30\, followed by Lenten service. Members are asked to sign up to bring pots of soup and buns each week (3 pots of soup per week are needed).
URL:https://kingoflife.ca/event/lenten-soup-supper-and-service-2/
LOCATION:King of Life Lutheran Church\, 1198 Falcon Dr\, Coquitlam\, BC\, V3E2M4\, Canada
END:VEVENT
BEGIN:VEVENT
DTSTART;TZID=UTC:20160221T103000
DTEND;TZID=UTC:20160221T233000
DTSTAMP:20260422T010026
CREATED:20160202T131017Z
LAST-MODIFIED:20160202T131017Z
UID:196-1456050600-1456097400@kingoflife.ca
SUMMARY:Animate
DESCRIPTION:Animate: Worship
URL:https://kingoflife.ca/event/animate-3/
LOCATION:King of Life Lutheran Church\, 1198 Falcon Dr\, Coquitlam\, BC\, V3E2M4\, Canada
END:VEVENT
BEGIN:VEVENT
DTSTART;VALUE=DATE:20160220
DTEND;VALUE=DATE:20160221
DTSTAMP:20260422T010026
CREATED:20160122T141057Z
LAST-MODIFIED:20160122T141057Z
UID:189-1455926400-1456012799@kingoflife.ca
SUMMARY:SUMS Coldest Night
DESCRIPTION:SUMS is again participating in this great fundraising event. The event involves setting up teams of walkers who will walk a 5km route on the night of February 20\, 2016 in Surrey to help raise awareness of people who live outside in the elements and also raise funds to address poverty.
URL:https://kingoflife.ca/event/sums-coldest-night/
LOCATION:Surrey\, Surrey
END:VEVENT
BEGIN:VEVENT
DTSTART;TZID=UTC:20160218T183000
DTEND;TZID=UTC:20160218T200000
DTSTAMP:20260422T010026
CREATED:20160122T140147Z
LAST-MODIFIED:20160122T140147Z
UID:181-1455820200-1455825600@kingoflife.ca
SUMMARY:Lenten Soup Supper and Service
DESCRIPTION:Come out during Lent for a soup and bun supper at 6:30\, followed by Lenten service. Members are asked to sign up to bring pots of soup and buns each week (3 pots of soup per week are needed).
URL:https://kingoflife.ca/event/lenten-soup-supper-and-service/
LOCATION:King of Life Lutheran Church\, 1198 Falcon Dr\, Coquitlam\, BC\, V3E2M4\, Canada
END:VEVENT
BEGIN:VEVENT
DTSTART;TZID=UTC:20160214T091500
DTEND;TZID=UTC:20160214T101500
DTSTAMP:20260422T010026
CREATED:20160122T141259Z
LAST-MODIFIED:20160122T141259Z
UID:191-1455441300-1455444900@kingoflife.ca
SUMMARY:"Food for Thought"
DESCRIPTION:
URL:https://kingoflife.ca/event/food-for-thought/
LOCATION:King of Life Lutheran Church\, 1198 Falcon Dr\, Coquitlam\, BC\, V3E2M4\, Canada
END:VEVENT
END:VCALENDAR